BEGIN:VCALENDAR
VERSION:2.0
PRODID:-//GD Goenka Public School, Dwarka - ECPv6.15.13.1//NONSGML v1.0//EN
CALSCALE:GREGORIAN
METHOD:PUBLISH
X-WR-CALNAME:GD Goenka Public School, Dwarka
X-ORIGINAL-URL:https://gdgoenkadwarka.com
X-WR-CALDESC:Events for GD Goenka Public School, Dwarka
REFRESH-INTERVAL;VALUE=DURATION:PT1H
X-Robots-Tag:noindex
X-PUBLISHED-TTL:PT1H
BEGIN:VTIMEZONE
TZID:UTC
BEGIN:STANDARD
TZOFFSETFROM:+0000
TZOFFSETTO:+0000
TZNAME:UTC
DTSTART:20240101T000000
END:STANDARD
END:VTIMEZONE
BEGIN:VEVENT
DTSTART;TZID=UTC:20250407T000000
DTEND;TZID=UTC:20250407T000000
DTSTAMP:20260423T172459
CREATED:20250425T112400Z
LAST-MODIFIED:20250425T112400Z
UID:8926-1743984000-1743984000@gdgoenkadwarka.com
SUMMARY:House Meet  (Classes lll-V)
DESCRIPTION:
URL:https://gdgoenkadwarka.com/event/house-meet-classes-lll-v/
CATEGORIES:III-V
END:VEVENT
BEGIN:VEVENT
DTSTART;TZID=UTC:20250406T000000
DTEND;TZID=UTC:20250406T000000
DTSTAMP:20260423T172459
CREATED:20250425T111359Z
LAST-MODIFIED:20250425T114644Z
UID:8920-1743897600-1743897600@gdgoenkadwarka.com
SUMMARY:Ram Navmi
DESCRIPTION:
URL:https://gdgoenkadwarka.com/event/ram-navmi/
CATEGORIES:III-V,Nursery-2,VI-XII
END:VEVENT
END:VCALENDAR