BEGIN:VCALENDAR
VERSION:2.0
PRODID:-//GD Goenka Public School, Dwarka - ECPv6.15.13.1//NONSGML v1.0//EN
CALSCALE:GREGORIAN
METHOD:PUBLISH
X-ORIGINAL-URL:https://gdgoenkadwarka.com
X-WR-CALDESC:Events for GD Goenka Public School, Dwarka
REFRESH-INTERVAL;VALUE=DURATION:PT1H
X-Robots-Tag:noindex
X-PUBLISHED-TTL:PT1H
BEGIN:VTIMEZONE
TZID:UTC
BEGIN:STANDARD
TZOFFSETFROM:+0000
TZOFFSETTO:+0000
TZNAME:UTC
DTSTART:20240101T000000
END:STANDARD
END:VTIMEZONE
BEGIN:VEVENT
DTSTART;TZID=UTC:20250530T000000
DTEND;TZID=UTC:20250530T000000
DTSTAMP:20260422T173019
CREATED:20250508T085940Z
LAST-MODIFIED:20250508T095856Z
UID:9038-1748563200-1748563200@gdgoenkadwarka.com
SUMMARY:Excursion for class X - XII
DESCRIPTION:
URL:https://gdgoenkadwarka.com/event/excursion-for-class-x-xii/
CATEGORIES:VI-XII
END:VEVENT
BEGIN:VEVENT
DTSTART;TZID=UTC:20250529T000000
DTEND;TZID=UTC:20250529T000000
DTSTAMP:20260422T173019
CREATED:20250508T085849Z
LAST-MODIFIED:20250508T085910Z
UID:9036-1748476800-1748476800@gdgoenkadwarka.com
SUMMARY:PTM for Class X & XII
DESCRIPTION:
URL:https://gdgoenkadwarka.com/event/ptm-for-class-x-xii/
CATEGORIES:VI-XII
END:VEVENT
BEGIN:VEVENT
DTSTART;TZID=UTC:20250520T000000
DTEND;TZID=UTC:20250520T000000
DTSTAMP:20260422T173019
CREATED:20250508T085733Z
LAST-MODIFIED:20250508T085803Z
UID:9034-1747699200-1747699200@gdgoenkadwarka.com
SUMMARY:WORKSHOP 2-COMMERCE 12PM-1PM
DESCRIPTION:
URL:https://gdgoenkadwarka.com/event/workshop-2-commerce-12pm-1pm/
CATEGORIES:VI-XII
END:VEVENT
BEGIN:VEVENT
DTSTART;TZID=UTC:20250519T000000
DTEND;TZID=UTC:20250519T000000
DTSTAMP:20260422T173019
CREATED:20250508T085022Z
LAST-MODIFIED:20250508T085055Z
UID:9032-1747612800-1747612800@gdgoenkadwarka.com
SUMMARY:Summer Break for Nur - VIII
DESCRIPTION:
URL:https://gdgoenkadwarka.com/event/summer-break-for-nur-viii/
CATEGORIES:VI-XII
END:VEVENT
BEGIN:VEVENT
DTSTART;TZID=UTC:20250517T000000
DTEND;TZID=UTC:20250517T000000
DTSTAMP:20260422T173019
CREATED:20250508T084648Z
LAST-MODIFIED:20250508T084914Z
UID:9030-1747440000-1747440000@gdgoenkadwarka.com
SUMMARY:3rd Saturday
DESCRIPTION:
URL:https://gdgoenkadwarka.com/event/3rd-saturday/
CATEGORIES:VI-XII
END:VEVENT
BEGIN:VEVENT
DTSTART;TZID=UTC:20250516T000000
DTEND;TZID=UTC:20250516T000000
DTSTAMP:20260422T173019
CREATED:20250508T083857Z
LAST-MODIFIED:20250508T084610Z
UID:9027-1747353600-1747353600@gdgoenkadwarka.com
SUMMARY:UT -1 for X and XII Goenka's Got Talent! (3-Minute Student Talent Showcase: Art\, Music\, Dance\, and Creative Expression)
DESCRIPTION:
URL:https://gdgoenkadwarka.com/event/ut-1-for-x-and-xii-goenkas-got-talent-3-minute-student-talent-showcase-art-music-dance-and-creative-expression/
CATEGORIES:VI-XII
END:VEVENT
BEGIN:VEVENT
DTSTART;TZID=UTC:20250514T000000
DTEND;TZID=UTC:20250514T000000
DTSTAMP:20260422T173019
CREATED:20250508T083400Z
LAST-MODIFIED:20250508T083457Z
UID:9025-1747180800-1747180800@gdgoenkadwarka.com
SUMMARY:Digital Imaging- Inter House  E-Poster Making Competition- (Classes VI-VII & IX-XII)
DESCRIPTION:
URL:https://gdgoenkadwarka.com/event/digital-imaging-inter-house-e-poster-making-competition-classes-vi-vii-ix-xii/
CATEGORIES:VI-XII
END:VEVENT
BEGIN:VEVENT
DTSTART;TZID=UTC:20250512T000000
DTEND;TZID=UTC:20250512T000000
DTSTAMP:20260422T173019
CREATED:20250508T074726Z
LAST-MODIFIED:20250508T074750Z
UID:9023-1747008000-1747008000@gdgoenkadwarka.com
SUMMARY:Buddh Purnima
DESCRIPTION:
URL:https://gdgoenkadwarka.com/event/buddh-purnima/
CATEGORIES:VI-XII
END:VEVENT
BEGIN:VEVENT
DTSTART;TZID=UTC:20250510T000000
DTEND;TZID=UTC:20250510T000000
DTSTAMP:20260422T173019
CREATED:20250508T074244Z
LAST-MODIFIED:20250508T074244Z
UID:9021-1746835200-1746835200@gdgoenkadwarka.com
SUMMARY:PTM- CLASSES NURSERY\, KG\, I\, II\, IV AND V
DESCRIPTION:
URL:https://gdgoenkadwarka.com/event/ptm-classes-nursery-kg-i-ii-iv-and-v/
CATEGORIES:VI-XII
END:VEVENT
BEGIN:VEVENT
DTSTART;TZID=UTC:20250509T000000
DTEND;TZID=UTC:20250509T000000
DTSTAMP:20260422T173019
CREATED:20250508T073958Z
LAST-MODIFIED:20250508T074012Z
UID:9019-1746748800-1746748800@gdgoenkadwarka.com
SUMMARY:UT - 1 for Classes X & XII (From May 09 - 23\, 2025)  Special Assembly on Gurudev  Rabindranath Tagore- (VI-VIII)
DESCRIPTION:
URL:https://gdgoenkadwarka.com/event/ut-1-for-classes-x-xii-from-may-09-23-2025-special-assembly-on-gurudev-rabindranath-tagore-vi-viii/
CATEGORIES:VI-XII
END:VEVENT
BEGIN:VEVENT
DTSTART;TZID=UTC:20250508T000000
DTEND;TZID=UTC:20250508T000000
DTSTAMP:20260422T173019
CREATED:20250508T073702Z
LAST-MODIFIED:20250508T073907Z
UID:9017-1746662400-1746662400@gdgoenkadwarka.com
SUMMARY:Cyber Quiz- Classes VI- VIII and IX- XII
DESCRIPTION:
URL:https://gdgoenkadwarka.com/event/cyber-quiz-classes-vi-viii-and-ix-xii/
CATEGORIES:VI-XII
END:VEVENT
BEGIN:VEVENT
DTSTART;TZID=UTC:20250507T000000
DTEND;TZID=UTC:20250507T000000
DTSTAMP:20260422T173019
CREATED:20250508T073431Z
LAST-MODIFIED:20250508T073549Z
UID:9015-1746576000-1746576000@gdgoenkadwarka.com
SUMMARY:Applecious-App Invention (IX-XII) Inter-House Yoga Competition-(Classes VI-VIII)
DESCRIPTION:
URL:https://gdgoenkadwarka.com/event/applecious-app-invention-ix-xii-inter-house-yoga-competition-classes-vi-viii/
CATEGORIES:VI-XII
END:VEVENT
BEGIN:VEVENT
DTSTART;TZID=UTC:20250506T000000
DTEND;TZID=UTC:20250506T000000
DTSTAMP:20260422T173019
CREATED:20250506T073130Z
LAST-MODIFIED:20250508T073314Z
UID:9013-1746489600-1746489600@gdgoenkadwarka.com
SUMMARY:Inter-House Cricket Competition for Boys (Classes IX-XII)
DESCRIPTION:
URL:https://gdgoenkadwarka.com/event/inter-house-cricket-competition-for-boys-classes-ix-xii/
CATEGORIES:VI-XII
END:VEVENT
BEGIN:VEVENT
DTSTART;TZID=UTC:20250505T000000
DTEND;TZID=UTC:20250505T000000
DTSTAMP:20260422T173019
CREATED:20250505T072851Z
LAST-MODIFIED:20250508T073001Z
UID:9011-1746403200-1746403200@gdgoenkadwarka.com
SUMMARY:Inter-House Techno-Mania Challenge- Movie Making (Classes VI-VIII) and Cyber Security Workshop
DESCRIPTION:
URL:https://gdgoenkadwarka.com/event/inter-house-techno-mania-challenge-movie-making-classes-vi-viii-and-cyber-security-workshop/
CATEGORIES:VI-XII
END:VEVENT
BEGIN:VEVENT
DTSTART;TZID=UTC:20250503T000000
DTEND;TZID=UTC:20250503T000000
DTSTAMP:20260422T173019
CREATED:20250508T072721Z
LAST-MODIFIED:20250508T072749Z
UID:9009-1746230400-1746230400@gdgoenkadwarka.com
SUMMARY:PTM FOR 3
DESCRIPTION:
URL:https://gdgoenkadwarka.com/event/ptm-for-3/
CATEGORIES:VI-XII
END:VEVENT
BEGIN:VEVENT
DTSTART;TZID=UTC:20250502T000000
DTEND;TZID=UTC:20250502T000000
DTSTAMP:20260422T173019
CREATED:20250508T072625Z
LAST-MODIFIED:20250508T072625Z
UID:9007-1746144000-1746144000@gdgoenkadwarka.com
SUMMARY:Inter-House Skipping  Competition (Classes VI-XII)
DESCRIPTION:
URL:https://gdgoenkadwarka.com/event/inter-house-skipping-competition-classes-vi-xii/
CATEGORIES:VI-XII
END:VEVENT
BEGIN:VEVENT
DTSTART;TZID=UTC:20250501T000000
DTEND;TZID=UTC:20250501T000000
DTSTAMP:20260422T173019
CREATED:20250508T055351Z
LAST-MODIFIED:20250508T055351Z
UID:9005-1746057600-1746057600@gdgoenkadwarka.com
SUMMARY:Inter-House Basketball for  Girls (Classes IX-XII ) WORKSHOP 1-SCIENCE 12pm-1pm
DESCRIPTION:
URL:https://gdgoenkadwarka.com/event/inter-house-basketball-for-girls-classes-ix-xii-workshop-1-science-12pm-1pm/
CATEGORIES:VI-XII
END:VEVENT
BEGIN:VEVENT
DTSTART;TZID=UTC:20250406T000000
DTEND;TZID=UTC:20250406T000000
DTSTAMP:20260422T173019
CREATED:20250425T111359Z
LAST-MODIFIED:20250425T114644Z
UID:8920-1743897600-1743897600@gdgoenkadwarka.com
SUMMARY:Ram Navmi
DESCRIPTION:
URL:https://gdgoenkadwarka.com/event/ram-navmi/
CATEGORIES:III-V,Nursery-2,VI-XII
END:VEVENT
BEGIN:VEVENT
DTSTART;TZID=UTC:20250402T000000
DTEND;TZID=UTC:20250402T000000
DTSTAMP:20260422T173019
CREATED:20250425T114741Z
LAST-MODIFIED:20250425T114741Z
UID:8934-1743552000-1743552000@gdgoenkadwarka.com
SUMMARY:Session begin for Nursery -X & XII
DESCRIPTION:
URL:https://gdgoenkadwarka.com/event/session-begin-for-nursery-x-xii/
CATEGORIES:VI-XII
END:VEVENT
END:VCALENDAR