BEGIN:VCALENDAR
VERSION:2.0
PRODID:-//GD Goenka Public School, Dwarka - ECPv6.15.13.1//NONSGML v1.0//EN
CALSCALE:GREGORIAN
METHOD:PUBLISH
X-ORIGINAL-URL:https://gdgoenkadwarka.com
X-WR-CALDESC:Events for GD Goenka Public School, Dwarka
REFRESH-INTERVAL;VALUE=DURATION:PT1H
X-Robots-Tag:noindex
X-PUBLISHED-TTL:PT1H
BEGIN:VTIMEZONE
TZID:UTC
BEGIN:STANDARD
TZOFFSETFROM:+0000
TZOFFSETTO:+0000
TZNAME:UTC
DTSTART:20230101T000000
END:STANDARD
END:VTIMEZONE
BEGIN:VEVENT
DTSTART;TZID=UTC:20250126T000000
DTEND;TZID=UTC:20250126T000000
DTSTAMP:20260422T172357
CREATED:20240406T061553Z
LAST-MODIFIED:20240406T061553Z
UID:7137-1737849600-1737849600@gdgoenkadwarka.com
SUMMARY:Republic Day
DESCRIPTION:
URL:https://gdgoenkadwarka.com/event/republic-day/
CATEGORIES:Holidays
END:VEVENT
BEGIN:VEVENT
DTSTART;TZID=UTC:20250116T000000
DTEND;TZID=UTC:20250116T000000
DTSTAMP:20260422T172357
CREATED:20240406T063318Z
LAST-MODIFIED:20240406T063318Z
UID:7158-1736985600-1736985600@gdgoenkadwarka.com
SUMMARY:School re-open after Winter vacation(Nur to VIII)
DESCRIPTION:
URL:https://gdgoenkadwarka.com/event/school-re-open-after-winter-vacationnur-to-viii/
END:VEVENT
BEGIN:VEVENT
DTSTART;TZID=UTC:20250108T000000
DTEND;TZID=UTC:20250108T000000
DTSTAMP:20260422T172357
CREATED:20240406T063524Z
LAST-MODIFIED:20240406T063524Z
UID:7160-1736294400-1736294400@gdgoenkadwarka.com
SUMMARY:School re-open after Winter vacation(IX & XI)
DESCRIPTION:
URL:https://gdgoenkadwarka.com/event/school-re-open-after-winter-vacationix-xi/
END:VEVENT
BEGIN:VEVENT
DTSTART;TZID=UTC:20250101T000000
DTEND;TZID=UTC:20250115T000000
DTSTAMP:20260422T172357
CREATED:20240406T063151Z
LAST-MODIFIED:20240406T063151Z
UID:7156-1735689600-1736899200@gdgoenkadwarka.com
SUMMARY:Winter vacation (Nur to VIII)
DESCRIPTION:
URL:https://gdgoenkadwarka.com/event/winter-vacation-nur-to-viii/
CATEGORIES:Holidays
END:VEVENT
BEGIN:VEVENT
DTSTART;TZID=UTC:20250101T000000
DTEND;TZID=UTC:20250107T170000
DTSTAMP:20260422T172357
CREATED:20240406T063618Z
LAST-MODIFIED:20240406T063618Z
UID:7162-1735689600-1736269200@gdgoenkadwarka.com
SUMMARY:Winter vacation (IX & XI)
DESCRIPTION:
URL:https://gdgoenkadwarka.com/event/winter-vacation-ix-xi/
CATEGORIES:Holidays
END:VEVENT
BEGIN:VEVENT
DTSTART;TZID=UTC:20250101T000000
DTEND;TZID=UTC:20250101T000000
DTSTAMP:20260422T172357
CREATED:20240406T061517Z
LAST-MODIFIED:20240406T061517Z
UID:7135-1735689600-1735689600@gdgoenkadwarka.com
SUMMARY:New Year's Day
DESCRIPTION:
URL:https://gdgoenkadwarka.com/event/new-years-day/
CATEGORIES:Holidays
END:VEVENT
BEGIN:VEVENT
DTSTART;TZID=UTC:20241225T000000
DTEND;TZID=UTC:20241225T000000
DTSTAMP:20260422T172357
CREATED:20240406T061429Z
LAST-MODIFIED:20240413T104114Z
UID:7132-1735084800-1735084800@gdgoenkadwarka.com
SUMMARY:Christmas
DESCRIPTION:
URL:https://gdgoenkadwarka.com/event/christmas/
CATEGORIES:Holidays
END:VEVENT
BEGIN:VEVENT
DTSTART;TZID=UTC:20241115T000000
DTEND;TZID=UTC:20241115T000000
DTSTAMP:20260422T172357
CREATED:20240406T061354Z
LAST-MODIFIED:20240406T061354Z
UID:7130-1731628800-1731628800@gdgoenkadwarka.com
SUMMARY:Guru Nanak Jayanti
DESCRIPTION:
URL:https://gdgoenkadwarka.com/event/guru-nanak-jayanti/
CATEGORIES:Holidays
END:VEVENT
BEGIN:VEVENT
DTSTART;TZID=UTC:20241107T000000
DTEND;TZID=UTC:20241107T000000
DTSTAMP:20260422T172357
CREATED:20240406T061325Z
LAST-MODIFIED:20240406T061325Z
UID:7128-1730937600-1730937600@gdgoenkadwarka.com
SUMMARY:Chhath Puja
DESCRIPTION:
URL:https://gdgoenkadwarka.com/event/chhath-puja/
CATEGORIES:Holidays
END:VEVENT
BEGIN:VEVENT
DTSTART;TZID=UTC:20241103T000000
DTEND;TZID=UTC:20241103T000000
DTSTAMP:20260422T172357
CREATED:20240406T060134Z
LAST-MODIFIED:20240406T060134Z
UID:7124-1730592000-1730592000@gdgoenkadwarka.com
SUMMARY:Bhai Duj
DESCRIPTION:
URL:https://gdgoenkadwarka.com/event/bhai-duj/
CATEGORIES:Holidays
END:VEVENT
BEGIN:VEVENT
DTSTART;TZID=UTC:20241102T000000
DTEND;TZID=UTC:20241102T000000
DTSTAMP:20260422T172357
CREATED:20240406T060104Z
LAST-MODIFIED:20240406T060104Z
UID:7122-1730505600-1730505600@gdgoenkadwarka.com
SUMMARY:Govardhan Puja
DESCRIPTION:
URL:https://gdgoenkadwarka.com/event/govardhan-puja/
CATEGORIES:Holidays
END:VEVENT
BEGIN:VEVENT
DTSTART;TZID=UTC:20241031T000000
DTEND;TZID=UTC:20241103T000000
DTSTAMP:20260422T172357
CREATED:20240406T062907Z
LAST-MODIFIED:20240406T062915Z
UID:7154-1730332800-1730592000@gdgoenkadwarka.com
SUMMARY:Diwali Break
DESCRIPTION:
URL:https://gdgoenkadwarka.com/event/diwali-break/
CATEGORIES:Holidays
END:VEVENT
BEGIN:VEVENT
DTSTART;TZID=UTC:20241031T000000
DTEND;TZID=UTC:20241031T000000
DTSTAMP:20260422T172357
CREATED:20240406T060036Z
LAST-MODIFIED:20240406T060036Z
UID:7120-1730332800-1730332800@gdgoenkadwarka.com
SUMMARY:Diwali
DESCRIPTION:
URL:https://gdgoenkadwarka.com/event/diwali/
CATEGORIES:Holidays
END:VEVENT
BEGIN:VEVENT
DTSTART;TZID=UTC:20241017T000000
DTEND;TZID=UTC:20241017T000000
DTSTAMP:20260422T172357
CREATED:20240406T055958Z
LAST-MODIFIED:20240406T055958Z
UID:7118-1729123200-1729123200@gdgoenkadwarka.com
SUMMARY:Maharishi Valmiki Jayanti
DESCRIPTION:
URL:https://gdgoenkadwarka.com/event/maharishi-valmiki-jayanti/
CATEGORIES:Holidays
END:VEVENT
BEGIN:VEVENT
DTSTART;TZID=UTC:20241012T000000
DTEND;TZID=UTC:20241012T000000
DTSTAMP:20260422T172357
CREATED:20240406T054711Z
LAST-MODIFIED:20240406T054711Z
UID:7114-1728691200-1728691200@gdgoenkadwarka.com
SUMMARY:Dussehra
DESCRIPTION:
URL:https://gdgoenkadwarka.com/event/dussehra/
CATEGORIES:Holidays
END:VEVENT
BEGIN:VEVENT
DTSTART;TZID=UTC:20241011T000000
DTEND;TZID=UTC:20241011T000000
DTSTAMP:20260422T172357
CREATED:20240406T054641Z
LAST-MODIFIED:20240406T054641Z
UID:7112-1728604800-1728604800@gdgoenkadwarka.com
SUMMARY:Navami
DESCRIPTION:
URL:https://gdgoenkadwarka.com/event/navami/
CATEGORIES:Holidays
END:VEVENT
BEGIN:VEVENT
DTSTART;TZID=UTC:20241002T000000
DTEND;TZID=UTC:20241002T000000
DTSTAMP:20260422T172357
CREATED:20240406T054603Z
LAST-MODIFIED:20240406T054603Z
UID:7110-1727827200-1727827200@gdgoenkadwarka.com
SUMMARY:Gandhi Jayanti
DESCRIPTION:
URL:https://gdgoenkadwarka.com/event/gandhi-jayanti/
CATEGORIES:Holidays
END:VEVENT
BEGIN:VEVENT
DTSTART;TZID=UTC:20240916T000000
DTEND;TZID=UTC:20240916T000000
DTSTAMP:20260422T172357
CREATED:20240406T054540Z
LAST-MODIFIED:20240406T054540Z
UID:7108-1726444800-1726444800@gdgoenkadwarka.com
SUMMARY:Eid-E-Milad**
DESCRIPTION:
URL:https://gdgoenkadwarka.com/event/eid-e-milad/
CATEGORIES:Holidays
END:VEVENT
BEGIN:VEVENT
DTSTART;TZID=UTC:20240826T000000
DTEND;TZID=UTC:20240826T000000
DTSTAMP:20260422T172357
CREATED:20240406T054458Z
LAST-MODIFIED:20240406T054458Z
UID:7106-1724630400-1724630400@gdgoenkadwarka.com
SUMMARY:Janmashtami
DESCRIPTION:
URL:https://gdgoenkadwarka.com/event/janmashtami/
CATEGORIES:Holidays
END:VEVENT
BEGIN:VEVENT
DTSTART;TZID=UTC:20240819T000000
DTEND;TZID=UTC:20240819T000000
DTSTAMP:20260422T172357
CREATED:20240406T054417Z
LAST-MODIFIED:20240406T054417Z
UID:7104-1724025600-1724025600@gdgoenkadwarka.com
SUMMARY:Raksha Bandhan
DESCRIPTION:
URL:https://gdgoenkadwarka.com/event/raksha-bandhan/
CATEGORIES:Holidays
END:VEVENT
BEGIN:VEVENT
DTSTART;TZID=UTC:20240815T000000
DTEND;TZID=UTC:20240815T000000
DTSTAMP:20260422T172357
CREATED:20240406T054246Z
LAST-MODIFIED:20240406T054246Z
UID:7102-1723680000-1723680000@gdgoenkadwarka.com
SUMMARY:Independence Day
DESCRIPTION:
URL:https://gdgoenkadwarka.com/event/independence-day/
CATEGORIES:Holidays
END:VEVENT
BEGIN:VEVENT
DTSTART;TZID=UTC:20240717T000000
DTEND;TZID=UTC:20240717T000000
DTSTAMP:20260422T172357
CREATED:20240406T054221Z
LAST-MODIFIED:20240406T054221Z
UID:7100-1721174400-1721174400@gdgoenkadwarka.com
SUMMARY:Muharram
DESCRIPTION:
URL:https://gdgoenkadwarka.com/event/muharram/
CATEGORIES:Holidays
END:VEVENT
BEGIN:VEVENT
DTSTART;TZID=UTC:20240701T000000
DTEND;TZID=UTC:20240701T000000
DTSTAMP:20260422T172357
CREATED:20240406T062114Z
LAST-MODIFIED:20240406T062114Z
UID:7150-1719792000-1719792000@gdgoenkadwarka.com
SUMMARY:School will re-open
DESCRIPTION:
URL:https://gdgoenkadwarka.com/event/school-will-re-open/
CATEGORIES:Events
END:VEVENT
BEGIN:VEVENT
DTSTART;TZID=UTC:20240617T000000
DTEND;TZID=UTC:20240617T000000
DTSTAMP:20260422T172357
CREATED:20240406T054142Z
LAST-MODIFIED:20240406T054142Z
UID:7098-1718582400-1718582400@gdgoenkadwarka.com
SUMMARY:Eid-Ul-Zuha**(Bakri Eid)
DESCRIPTION:
URL:https://gdgoenkadwarka.com/event/eid-ul-zuhabakri-eid/
CATEGORIES:Holidays
END:VEVENT
BEGIN:VEVENT
DTSTART;TZID=UTC:20240603T080000
DTEND;TZID=UTC:20240628T170000
DTSTAMP:20260422T172357
CREATED:20240406T062019Z
LAST-MODIFIED:20240406T062019Z
UID:7148-1717401600-1719594000@gdgoenkadwarka.com
SUMMARY:Summer vacation: IX to XII
DESCRIPTION:
URL:https://gdgoenkadwarka.com/event/summer-vacation-ix-to-xii/
CATEGORIES:Holidays
END:VEVENT
BEGIN:VEVENT
DTSTART;TZID=UTC:20240523T000000
DTEND;TZID=UTC:20240523T000000
DTSTAMP:20260422T172357
CREATED:20240406T053727Z
LAST-MODIFIED:20240406T053727Z
UID:7096-1716422400-1716422400@gdgoenkadwarka.com
SUMMARY:Buddha Purnima
DESCRIPTION:
URL:https://gdgoenkadwarka.com/event/buddha-purnima/
CATEGORIES:Holidays
END:VEVENT
BEGIN:VEVENT
DTSTART;TZID=UTC:20240513T000000
DTEND;TZID=UTC:20240628T000000
DTSTAMP:20260422T172357
CREATED:20240406T061913Z
LAST-MODIFIED:20240406T061913Z
UID:7145-1715558400-1719532800@gdgoenkadwarka.com
SUMMARY:Summer vacation: Nur to Class VIII
DESCRIPTION:
URL:https://gdgoenkadwarka.com/event/summer-vacation-nur-to-class-viii/
CATEGORIES:Holidays
END:VEVENT
BEGIN:VEVENT
DTSTART;TZID=UTC:20240421T000000
DTEND;TZID=UTC:20240421T000000
DTSTAMP:20260422T172357
CREATED:20240406T053638Z
LAST-MODIFIED:20240406T053701Z
UID:7093-1713657600-1713657600@gdgoenkadwarka.com
SUMMARY:Mahavir Jayanti
DESCRIPTION:
URL:https://gdgoenkadwarka.com/event/mahavir-jayanti-april-21/
CATEGORIES:Holidays
END:VEVENT
BEGIN:VEVENT
DTSTART;TZID=UTC:20240417T000000
DTEND;TZID=UTC:20240417T000000
DTSTAMP:20260422T172357
CREATED:20240413T103722Z
LAST-MODIFIED:20240413T103722Z
UID:7369-1713312000-1713312000@gdgoenkadwarka.com
SUMMARY:Ram Navami
DESCRIPTION:
URL:https://gdgoenkadwarka.com/event/ram-navami/
CATEGORIES:Holidays
END:VEVENT
BEGIN:VEVENT
DTSTART;TZID=UTC:20240411T080000
DTEND;TZID=UTC:20240411T170000
DTSTAMP:20260422T172357
CREATED:20240406T053124Z
LAST-MODIFIED:20240406T053124Z
UID:7091-1712822400-1712854800@gdgoenkadwarka.com
SUMMARY:Eid-Ul-Fitr**
DESCRIPTION:
URL:https://gdgoenkadwarka.com/event/eid-ul-fitr/
CATEGORIES:Holidays
END:VEVENT
END:VCALENDAR