BEGIN:VCALENDAR
VERSION:2.0
PRODID:-//GD Goenka Public School, Dwarka - ECPv6.15.13.1//NONSGML v1.0//EN
CALSCALE:GREGORIAN
METHOD:PUBLISH
X-ORIGINAL-URL:https://gdgoenkadwarka.com
X-WR-CALDESC:Events for GD Goenka Public School, Dwarka
REFRESH-INTERVAL;VALUE=DURATION:PT1H
X-Robots-Tag:noindex
X-PUBLISHED-TTL:PT1H
BEGIN:VTIMEZONE
TZID:UTC
BEGIN:STANDARD
TZOFFSETFROM:+0000
TZOFFSETTO:+0000
TZNAME:UTC
DTSTART:20230101T000000
END:STANDARD
END:VTIMEZONE
BEGIN:VEVENT
DTSTART;TZID=UTC:20240208T080000
DTEND;TZID=UTC:20240208T170000
DTSTAMP:20260422T221100
CREATED:20240216T070653Z
LAST-MODIFIED:20240216T071211Z
UID:6082-1707379200-1707411600@gdgoenkadwarka.com
SUMMARY:HOLIDAY (MAHASHIVRATRI)
DESCRIPTION:
URL:https://gdgoenkadwarka.com/event/holiday-mahashivratri/
CATEGORIES:Holidays
ATTACH;FMTTYPE=image/webp:https://gdgoenkadwarka.com/wp-content/uploads/2023/12/foundation-stage-1.webp
END:VEVENT
BEGIN:VEVENT
DTSTART;TZID=UTC:20240205T080000
DTEND;TZID=UTC:20240205T170000
DTSTAMP:20260422T221100
CREATED:20240216T070454Z
LAST-MODIFIED:20240216T070454Z
UID:6080-1707120000-1707152400@gdgoenkadwarka.com
SUMMARY:Science Surprise Week starts (Nur&KG)
DESCRIPTION:
URL:https://gdgoenkadwarka.com/event/science-surprise-week-starts-nurkg/
END:VEVENT
BEGIN:VEVENT
DTSTART;TZID=UTC:20240203T080000
DTEND;TZID=UTC:20240203T170000
DTSTAMP:20260422T221100
CREATED:20240216T070323Z
LAST-MODIFIED:20240216T070323Z
UID:6077-1706947200-1706979600@gdgoenkadwarka.com
SUMMARY:Annual Goenkan Exhibition (I-V)
DESCRIPTION:
URL:https://gdgoenkadwarka.com/event/annual-goenkan-exhibition-i-v/
LOCATION:Annual Goenkan Exhibition (I-V)
END:VEVENT
END:VCALENDAR